BEGIN:VCALENDAR
VERSION:2.0
PRODID:-//wp-events-plugin.com//6.5//EN
BEGIN:VEVENT
UID:63-5033@athens.swea.org
DTSTART:20240118T170000Z
DTEND:20240118T170000Z
DTSTAMP:20240131T105749Z
URL:https://athens.swea.org/events/swea-athens-bokklubb-startar-igen/
SUMMARY:SWEA Athens Bokklubb startar igen.
DESCRIPTION:\n\n\n\n\n\n\n&nbsp\;\n\n\n\n&nbsp\;\n\nLängtar du efter att l
 äsa böcker på svenska?\n\nVälkommen till SWEA Athens bokklubb som trä
 ffas åter torsdagen den 18 januari kl 17.00\n\npå Svenska Kyrkans Försa
 mlingshem på Sotiros 7 i Plaka.\n\nVi tar alla med oss en bok vi gillar o
 ch vill berätta om.\n\nKaffe och kaka serveras!\n\nHör av dig för mer i
 nformation och anmälan senast\n\nden 16/1 till Maria på swea@athens.org 
 eller ring 6945 585017\n\n\n\n\n\n\n\n\n\n\n\n\n\n\n\n\n\n\n\n\n\n\n\n\n\n
 \n\n\n\n
ATTACH;FMTTYPE=image/jpeg:https://athens.swea.org/wp-content/uploads/sites
 /63/2024/01/a3772bcc-6064-ffca-fde2-02a6f28c71a5.jpeg
END:VEVENT
END:VCALENDAR