BEGIN:VCALENDAR
VERSION:2.0
PRODID:-//wp-events-plugin.com//6.5//EN
BEGIN:VEVENT
UID:63-8231@athens.swea.org
DTSTART:20250326T000000Z
DTEND:20250326T000000Z
DTSTAMP:20250323T215211Z
URL:https://athens.swea.org/events/sia-elsa-segerdahl-lakare-och-humanitar
 -hjalparbetare-i-grekland-turkiet-och-peru-mellan-1942-1960/
SUMMARY:SIA: Elsa Segerdahl - Läkare och Humanitär Hjälparbetare i Grekl
 and\, Turkiet och Peru mellan 1942-1960.
DESCRIPTION:SIA: Elsa Segerdahl / Läkare och Humanitär Hjälparbetare i G
 rekland\, Turkiet och Peru mellan 1942-1960.
END:VEVENT
END:VCALENDAR