BEGIN:VCALENDAR
VERSION:2.0
PRODID:-//wp-events-plugin.com//6.5//EN
BEGIN:VEVENT
UID:63-2928@athens.swea.org
DTSTART:20230221T160000Z
DTEND:20230221T180000Z
DTSTAMP:20230315T085054Z
URL:https://athens.swea.org/events/semmelfika-och-stickkafe-pa-forsamlings
 hemmet/
SUMMARY:Semmelfika (och Stickkafe) på Församlingshemmet.
DESCRIPTION:\n\n\n\n\n\n\nSemmelfika (och Stick-kafé) på Svenska kyrkans
  församlingshem.\n\nTid: Tisdag 21 februari kl 16.00-18.00\nAdress: Sotir
 os str 7\, Plaka\, Athens\nAnmälan senast 18/2 till sweaathens@gmail.com\
 neller 6944 698116(Mona) och 6945 585017(Maria)\n\n\n
LOCATION:Svenska kyrkans Församlingshem\, Sotiros 7\, Plaka\, Athen\, Atti
 ka\, Grekland
X-APPLE-STRUCTURED-LOCATION;VALUE=URI;X-ADDRESS=Sotiros 7\, Plaka\, Athen\,
  Attika\, Grekland;X-APPLE-RADIUS=100;X-TITLE=Svenska kyrkans Församlings
 hem:geo:0,0
END:VEVENT
END:VCALENDAR