BEGIN:VCALENDAR
VERSION:2.0
PRODID:-//wp-events-plugin.com//6.5//EN
BEGIN:VEVENT
UID:63-9220@athens.swea.org
DTSTART:20251009T110000Z
DTEND:20251009T110000Z
DTSTAMP:20251001T152726Z
URL:https://athens.swea.org/events/lunch-pa-hygge/
SUMMARY:Lunch på Hygge.
DESCRIPTION:Lunch på det skandinaviska bageriet Hygge.
CATEGORIES:SWEA event
END:VEVENT
END:VCALENDAR