BEGIN:VCALENDAR
VERSION:2.0
PRODID:-//wp-events-plugin.com//6.5//EN
BEGIN:VEVENT
UID:63-8234@athens.swea.org
DTSTART:20250408T000000Z
DTEND:20250408T000000Z
DTSTAMP:20250402T065955Z
URL:https://athens.swea.org/events/kulturkvall-pa-svenska-kyrkans-forsamli
 ngshem/
SUMMARY:SWEA Athens Författarkväll med Amanda Svensson.
DESCRIPTION:Kulturkväll på Svenska kyrkans Församlingshem.
CATEGORIES:SWEA event
END:VEVENT
END:VCALENDAR