BEGIN:VCALENDAR
VERSION:2.0
PRODID:-//wp-events-plugin.com//6.5//EN
BEGIN:VEVENT
UID:63-6918@athens.swea.org
DTSTART:20241016T110000Z
DTEND:20241016T110000Z
DTSTAMP:20241015T104527Z
URL:https://athens.swea.org/events/konstutstallningen-henry-moore-in-greec
 e-pa-galleri-gagosian/
SUMMARY:Konstutställningen "Henry Moore in Greece" på Galleri Gagosian.
DESCRIPTION:Hej vänner! \nHär kommer en inbjudan lite i sista stund\, \nh
 oppas ni kan komma ändå.\n&nbsp\;\n\n\nSWEA Athens välkomnar er till Ga
 lleri Gagosian\noch utställningen "Henry Moore and Greece".\n\nDet är de
 n första utställningen av konstnärens verk i Grekland på tjugo år.\nM
 ed ett urval av verk som spänner över Moores karriär\,\nbelyser den kon
 stnärens fascination för antik grekisk konst\,\nsom han utvecklade under
  en resa till Grekland 1951.\n\n\n\n\nDärefter promenerar vi 450m ned til
 l den sympatiska restaurangen Filippou för lunch.\n\nVar: Gallery Gagosia
 n 22 Anapiron Polemou Street Kolonaki/Lykavittos\n\nNär: Onsdag 16 oktobe
 r kl 11.00 (lunch ca kl 12.00 på restaurang Filippou)\n\nHur: Se kartan. 
 Megaro Mousikis är närmaste Metro.\nRestaurang Filippou ligger på Xenok
 ratous 19\, längst ned i kartans vänstra hörn.\nGratis inträde på gal
 leriet.\nSe mer på Gagosians hemsida: https://gagosian.com/locations/athe
 ns-anapiron-polemou-street/\n\n\n\nAnmälan senast måndag kväll till:\nM
 aria Renhuldt\n\n\nathens@swea.org\nMobile: +30 6945585017\n \n\n\nSWEA A
 thens\n\nhttps://athens.swea.org/\n\n
CATEGORIES:SWEA event
LOCATION:Gallery Gagosian of Athens\, 22 Anapiron Street\, Kolonaki/Lykavit
 tos\, Athens\, Grekland
GEO:37.979174;23.744748
X-APPLE-STRUCTURED-LOCATION;VALUE=URI;X-ADDRESS=22 Anapiron Street\, Kolona
 ki/Lykavittos\, Athens\, Grekland;X-APPLE-RADIUS=100;X-TITLE=Gallery Gagos
 ian of Athens:geo:37.979174,23.744748
END:VEVENT
END:VCALENDAR