BEGIN:VCALENDAR
VERSION:2.0
PRODID:-//wp-events-plugin.com//6.5//EN
BEGIN:VEVENT
UID:63-5581@athens.swea.org
DTSTART:20240523T193000Z
DTEND:20240523T193000Z
DTSTAMP:20240512T091301Z
URL:https://athens.swea.org/events/juridik-afton-med-fotini/
SUMMARY:Juridik-afton med Fotini.
DESCRIPTION:\n\n&nbsp\;\nFöredrag med advokat Fotini Ikonomidou Ikonomou t
 orsdag den 25 april kl 19.30.\nMånga frågor kan uppstå om vad som gäll
 er rent juridiskt när man flyttar från ett land till ett annat.\nNär ma
 n gifter sig med någon med annan nationalitet\, får barn och / eller nå
 gon går bort.\nDessa frågor som berör bl a äktenskap och dess rättigh
 eter\, skilsmässa\, arv och familjeförhållanden\,\ndär det finns någo
 n anknytning till ett annat land ska vi försöka besvara så gott det gå
 r.\nVi håller till på Svenska kyrkans församlingshem och vi serverar ä
 ven en enklare måltid.\n&nbsp\;\nVarmt välkommen till denna viktiga tem
 a-kväll!\nTid: Torsdag den 23 maj kl 19.30\nAdress: Apollonos 6\, Syntagm
 a\, Athens\nKostnad: 7€ (10€ för icke medlem)\nAnmälan till athens@
 swea.org\neller 6944 973996(Fotini) och 6945 585017(Maria)\n&nbsp\;\n\n\nS
 WEA Athens\n\nhttps://athens.swea.org/\n&nbsp\;
CATEGORIES:SWEA event
END:VEVENT
END:VCALENDAR