BEGIN:VCALENDAR
VERSION:2.0
PRODID:-//wp-events-plugin.com//6.5//EN
BEGIN:VEVENT
UID:63-4072@athens.swea.org
DTSTART:20231003T190000Z
DTEND:20231003T190000Z
DTSTAMP:20230926T102249Z
URL:https://athens.swea.org/events/filmkvall-utvandrarna/
SUMMARY:Filmkväll - Utvandrarna
DESCRIPTION:&nbsp\;\n\n\nHej bästa SWEA-medlem med vänner!\n\n\nVi anordn
 ar Filmkväll med middag på Svenska kyrkans församlingshem för alla so
 m har lust att delta. \n \nFilmen Utvandrarna av Erik Poppe från 2021 v
 ill vi se med start kl.19.00 och \nvi föreslår att ni kommer lite tidig
 are så ni har chans att fynda i Kyrkans HÖSTBASAR också!\n \nVi server
 ar en matig sallad\, bröd\, ost och dricka samt kaffe o kaka.\n \nSe fil
 mens trailer: https://www.imdb.com/video/vi1178583833/?ref_=tt_vi_i_2\n\n
 I huvudrollerna:\n\n\n\n\n\nGustaf Skarsgård\n...\nKarl-Oskar\n\n\n\nSofi
 a Helin\n...\nJudit\n\n\n\nMikkel Braset\n...\nSailor\n\n\n\n\n\nPlats: Sv
 enska kyrkan församlingshem på Sotiros 7\, Plaka\nTid: Tisdagen den 3 ok
 tober kl.19.00(kom gärna lite innan)\nKostnad: 10€\nOBS! Sista anmälni
 ngsdag: Söndag 1 oktober\nathens@swea.org\n\nMaria: +30 6945 585017\n \n
 Vi ser fram mot att träffas igen!\n \n***\nSWEA Athens styrelse\n\n\n&nb
 sp\;\n\n\n\nMaria Renhuldt\nathens@swea.org\nMobile: +30 6945585017\n \n\
 n\nSWEA Athens\n\nhttps://athens.swea.org/\n\n\n\n\n
END:VEVENT
END:VCALENDAR