BEGIN:VCALENDAR
VERSION:2.0
PRODID:-//wp-events-plugin.com//6.5//EN
BEGIN:VEVENT
UID:63-7057@athens.swea.org
DTSTART:20241129T100000Z
DTEND:20241129T100000Z
DTSTAMP:20241125T083427Z
URL:https://athens.swea.org/events/digitalt-morgonfika-med-tema-julpyssel/
SUMMARY:Digitalt Morgonfika med tema Julpyssel.
DESCRIPTION:Välkomna på digitalt morgonfika med julpyssel \npå fredag 29
  november kl 10.00!\n\n\n\n\n\nFör mig är julpyssel = pepparkakshus! \nH
 är får ni ett recept på egen deg om ni vill förbereda inför fredag!\n
 Eller pyssla med något annat... eller kom bara och fika!\n\n \nDet går 
 bra att delta med mobilen(eller dator) på följande länk:\n https://mee
 t.google.com/scv-zxhm-qaj\nFredag 29/11 kl 10.00\n\nVälkomna!\n\n\n\n\n\n
 Maria Renhuldt\nathens@swea.org\nMobile: +30 6945585017\n \n\n\nSWEA Athe
 ns\n\nhttps://athens.swea.org/\n\n\n&nbsp\;\n\n&nbsp\;
CATEGORIES:SWEA event
END:VEVENT
END:VCALENDAR