BEGIN:VCALENDAR
VERSION:2.0
PRODID:-//wp-events-plugin.com//6.5//EN
BEGIN:VEVENT
UID:63-3931@athens.swea.org
DTSTART:20230921T190000Z
DTEND:20230921T190000Z
DTSTAMP:20230906T065859Z
URL:https://athens.swea.org/events/aw-pa-kalamaki-bar-i-koukaki/
SUMMARY:AW på Kalamaki Bar i Koukaki
DESCRIPTION:\n\n\n\n\n\n\n\n\n\n\n&nbsp\;\n\n\n\nTorsdag 21 september kl 19
 .00 \n\nAW på Kalamaki Bar i Koukaki\n\nVi träffas på den här populä
 ra grillbaren som ligger på den mysiga Drakou street nära Syggrou-Fix me
 tro och bara tre kvarter nedanför Akropolis. Gott och bra priser\, både 
 kött och vegetariskt.\n\nAdress: Drakou 15\, Koukaki\, Athens\n+30 21 101
 7 1862\n\nhttps://kalamakibar.gr/en/homeen/\n\nAnmäl dig senast den 19 s
 ept till athens@swea.org\n\neller till 6945 585017\n\n\n\n\n\n\n\n\n\n\n\
 n\n\n\n\n\n\n\n\n\n\n\n\n\n\n\n\n\n\n\n\n\n\n\n\n\n\n
END:VEVENT
END:VCALENDAR