BEGIN:VCALENDAR
VERSION:2.0
PRODID:-//wp-events-plugin.com//6.5//EN
BEGIN:VEVENT
UID:63-2930@athens.swea.org
DTSTART:20230327T190000Z
DTEND:20230327T190000Z
DTSTAMP:20230315T085904Z
URL:https://athens.swea.org/events/afterwork-pa-tiki-bar-koukaki/
SUMMARY:AfterWork på TIKI Bar\, Koukaki.
DESCRIPTION:\n\n\n \n\n\nAfter work på Tiki Bar i Koukaki\nKom med på ett
  glas och glad musik hos Svenskgrekiska Eleni Tzavara som har lovat svensk
  musik från 50-60-70-tal under kvällen!\n\n Hemsida Tiki Bar\n\nTid: M
 åndag 27 mars kl 19.00\nAdress: Falirou 15\, Koukaki\, Athens (nära Ak
 ropolis museum)\n\n&nbsp\;\n\nAnmälan senast den 25/3 till sweaathens@gm
 ail.com\neller 6944 698116(Mona) och 6945 585017(Maria)\n\n\n
LOCATION:TIKI Bar\, Falirou 15\, Koukaki\, Athen\, Attika\, Grekland
X-APPLE-STRUCTURED-LOCATION;VALUE=URI;X-ADDRESS=Falirou 15\, Koukaki\, Athe
 n\, Attika\, Grekland;X-APPLE-RADIUS=100;X-TITLE=TIKI Bar:geo:0,0
END:VEVENT
END:VCALENDAR