BEGIN:VCALENDAR
VERSION:2.0
PRODID:-//wp-events-plugin.com//6.5//EN
BEGIN:VEVENT
UID:63-9219@athens.swea.org
DTSTART:20251002T190000Z
DTEND:20251002T190000Z
DTSTAMP:20251001T150519Z
URL:https://athens.swea.org/events/100-ar-sedan-mikis-theodorakis-fodelse/
SUMMARY:100 år sedan Mikis Theodorakis födelse.
DESCRIPTION:\n\n\n\n\n\n\n\n\n\n\n\n\n100 år sedan Mikis Theodorakis föde
 lse!\n\n\n\n\n\n\n\n\n\n\n\n\n\n\n\n\n\n\n\n\n\n\n\n\n\n\n\n\n\n\n\n\n\n\n
 \n\n\n\n\n\n\n\nΤο Σουηδικό Ινστιτούτο Αθηνών\, 
 ο Ελληνο-Σουηδικός Σύλλογος και η Nordic Acade
 my σας προσκαλούν στην εκδήλωση τιμής και
  μνήμης για τα 100 χρόνια από τη γέννηση το
 υ Μίκη Θεοδωράκη\nΜίκης Θεοδωράκης - Σουη
 δία\, μια δεύτερη πατρίδα\nΠέμπτη 2 Οκτωβρ
 ίου 2025\, στις 7.00 μ.μ. στο\nΙνστιτούτο της Δ
 ανίας (Χαιρεφώντος 14\, Πλάκα).\nThe Swedish In­sti
 ­tute at Athens\, the Greek-Swedish As­so­ci­a­tion\, and the Nordic 
 Acad­emy in­vite you to the com­mem­o­ra­tive event hon­or­ing the
  100th an­niver­sary of the birth of Mikis Theodor­akis\nMikis Theodor
 ­akis – Swe­den\, a sec­ond home­land\nThurs­day\, Oc­to­ber 2\, 
 2025\, at 7:00 p.m. at \nthe Dan­ish In­sti­tute (14 Chaire­fontos Str
 eet\, Plaka).\n\n\n\n\n\n\n\n\n\n\n\n\n
CATEGORIES:Möten och medlemsträffar
END:VEVENT
END:VCALENDAR